BEGIN:VCALENDAR
VERSION:2.0
PRODID:-//MD of Opportunity - ECPv6.15.17//NONSGML v1.0//EN
CALSCALE:GREGORIAN
METHOD:PUBLISH
X-ORIGINAL-URL:https://www.mdopportunity.ab.ca
X-WR-CALDESC:Events for MD of Opportunity
REFRESH-INTERVAL;VALUE=DURATION:PT1H
X-Robots-Tag:noindex
X-PUBLISHED-TTL:PT1H
BEGIN:VTIMEZONE
TZID:America/Edmonton
BEGIN:DAYLIGHT
TZOFFSETFROM:-0700
TZOFFSETTO:-0600
TZNAME:MDT
DTSTART:20240310T090000
END:DAYLIGHT
BEGIN:STANDARD
TZOFFSETFROM:-0600
TZOFFSETTO:-0700
TZNAME:MST
DTSTART:20241103T080000
END:STANDARD
BEGIN:DAYLIGHT
TZOFFSETFROM:-0700
TZOFFSETTO:-0600
TZNAME:MDT
DTSTART:20250309T090000
END:DAYLIGHT
BEGIN:STANDARD
TZOFFSETFROM:-0600
TZOFFSETTO:-0700
TZNAME:MST
DTSTART:20251102T080000
END:STANDARD
BEGIN:DAYLIGHT
TZOFFSETFROM:-0700
TZOFFSETTO:-0600
TZNAME:MDT
DTSTART:20260308T090000
END:DAYLIGHT
BEGIN:STANDARD
TZOFFSETFROM:-0600
TZOFFSETTO:-0700
TZNAME:MST
DTSTART:20261101T080000
END:STANDARD
END:VTIMEZONE
BEGIN:VEVENT
DTSTART;TZID=America/Edmonton:20251104T190000
DTEND;TZID=America/Edmonton:20251104T210000
DTSTAMP:20260425T060149
CREATED:20250416T201937Z
LAST-MODIFIED:20250416T201937Z
UID:10000031-1762282800-1762290000@www.mdopportunity.ab.ca
SUMMARY:AA Meeting
DESCRIPTION:Meetings held at the No Limit’s Boxing Club’s facilities located at the George D. Auger Community Hall. \nCoffee Served – Recoveries Shared \nFurther Information – 780-773-3330
URL:https://www.mdopportunity.ab.ca/event/aa-meeting/2025-11-04/
LOCATION:George D Auger Memorial Hall\, Stony Point Rd\, Wabasca-Desmarais\, Alberta\, T0G 0B7\, Canada
CATEGORIES:Community Events
ATTACH;FMTTYPE=image/jpeg:https://www.mdopportunity.ab.ca/wp-content/uploads/2025/04/alcoholics-anonymous.jpg
END:VEVENT
BEGIN:VEVENT
DTSTART;TZID=America/Edmonton:20251028T190000
DTEND;TZID=America/Edmonton:20251028T210000
DTSTAMP:20260425T060149
CREATED:20250416T201937Z
LAST-MODIFIED:20250416T201937Z
UID:10000030-1761678000-1761685200@www.mdopportunity.ab.ca
SUMMARY:AA Meeting
DESCRIPTION:Meetings held at the No Limit’s Boxing Club’s facilities located at the George D. Auger Community Hall. \nCoffee Served – Recoveries Shared \nFurther Information – 780-773-3330
URL:https://www.mdopportunity.ab.ca/event/aa-meeting/2025-10-28/
LOCATION:George D Auger Memorial Hall\, Stony Point Rd\, Wabasca-Desmarais\, Alberta\, T0G 0B7\, Canada
CATEGORIES:Community Events
ATTACH;FMTTYPE=image/jpeg:https://www.mdopportunity.ab.ca/wp-content/uploads/2025/04/alcoholics-anonymous.jpg
END:VEVENT
BEGIN:VEVENT
DTSTART;TZID=America/Edmonton:20251021T190000
DTEND;TZID=America/Edmonton:20251021T210000
DTSTAMP:20260425T060149
CREATED:20250416T201937Z
LAST-MODIFIED:20250416T201937Z
UID:10000029-1761073200-1761080400@www.mdopportunity.ab.ca
SUMMARY:AA Meeting
DESCRIPTION:Meetings held at the No Limit’s Boxing Club’s facilities located at the George D. Auger Community Hall. \nCoffee Served – Recoveries Shared \nFurther Information – 780-773-3330
URL:https://www.mdopportunity.ab.ca/event/aa-meeting/2025-10-21/
LOCATION:George D Auger Memorial Hall\, Stony Point Rd\, Wabasca-Desmarais\, Alberta\, T0G 0B7\, Canada
CATEGORIES:Community Events
ATTACH;FMTTYPE=image/jpeg:https://www.mdopportunity.ab.ca/wp-content/uploads/2025/04/alcoholics-anonymous.jpg
END:VEVENT
BEGIN:VEVENT
DTSTART;TZID=America/Edmonton:20251014T190000
DTEND;TZID=America/Edmonton:20251014T210000
DTSTAMP:20260425T060149
CREATED:20250416T201937Z
LAST-MODIFIED:20250416T201937Z
UID:10000028-1760468400-1760475600@www.mdopportunity.ab.ca
SUMMARY:AA Meeting
DESCRIPTION:Meetings held at the No Limit’s Boxing Club’s facilities located at the George D. Auger Community Hall. \nCoffee Served – Recoveries Shared \nFurther Information – 780-773-3330
URL:https://www.mdopportunity.ab.ca/event/aa-meeting/2025-10-14/
LOCATION:George D Auger Memorial Hall\, Stony Point Rd\, Wabasca-Desmarais\, Alberta\, T0G 0B7\, Canada
CATEGORIES:Community Events
ATTACH;FMTTYPE=image/jpeg:https://www.mdopportunity.ab.ca/wp-content/uploads/2025/04/alcoholics-anonymous.jpg
END:VEVENT
BEGIN:VEVENT
DTSTART;TZID=America/Edmonton:20251007T190000
DTEND;TZID=America/Edmonton:20251007T210000
DTSTAMP:20260425T060149
CREATED:20250416T201937Z
LAST-MODIFIED:20250416T201937Z
UID:10000027-1759863600-1759870800@www.mdopportunity.ab.ca
SUMMARY:AA Meeting
DESCRIPTION:Meetings held at the No Limit’s Boxing Club’s facilities located at the George D. Auger Community Hall. \nCoffee Served – Recoveries Shared \nFurther Information – 780-773-3330
URL:https://www.mdopportunity.ab.ca/event/aa-meeting/2025-10-07/
LOCATION:George D Auger Memorial Hall\, Stony Point Rd\, Wabasca-Desmarais\, Alberta\, T0G 0B7\, Canada
CATEGORIES:Community Events
ATTACH;FMTTYPE=image/jpeg:https://www.mdopportunity.ab.ca/wp-content/uploads/2025/04/alcoholics-anonymous.jpg
END:VEVENT
BEGIN:VEVENT
DTSTART;TZID=America/Edmonton:20250930T190000
DTEND;TZID=America/Edmonton:20250930T210000
DTSTAMP:20260425T060149
CREATED:20250416T201937Z
LAST-MODIFIED:20250416T201937Z
UID:10000026-1759258800-1759266000@www.mdopportunity.ab.ca
SUMMARY:AA Meeting
DESCRIPTION:Meetings held at the No Limit’s Boxing Club’s facilities located at the George D. Auger Community Hall. \nCoffee Served – Recoveries Shared \nFurther Information – 780-773-3330
URL:https://www.mdopportunity.ab.ca/event/aa-meeting/2025-09-30/
LOCATION:George D Auger Memorial Hall\, Stony Point Rd\, Wabasca-Desmarais\, Alberta\, T0G 0B7\, Canada
CATEGORIES:Community Events
ATTACH;FMTTYPE=image/jpeg:https://www.mdopportunity.ab.ca/wp-content/uploads/2025/04/alcoholics-anonymous.jpg
END:VEVENT
BEGIN:VEVENT
DTSTART;TZID=America/Edmonton:20250923T190000
DTEND;TZID=America/Edmonton:20250923T210000
DTSTAMP:20260425T060149
CREATED:20250416T201937Z
LAST-MODIFIED:20250416T201937Z
UID:10000025-1758654000-1758661200@www.mdopportunity.ab.ca
SUMMARY:AA Meeting
DESCRIPTION:Meetings held at the No Limit’s Boxing Club’s facilities located at the George D. Auger Community Hall. \nCoffee Served – Recoveries Shared \nFurther Information – 780-773-3330
URL:https://www.mdopportunity.ab.ca/event/aa-meeting/2025-09-23/
LOCATION:George D Auger Memorial Hall\, Stony Point Rd\, Wabasca-Desmarais\, Alberta\, T0G 0B7\, Canada
CATEGORIES:Community Events
ATTACH;FMTTYPE=image/jpeg:https://www.mdopportunity.ab.ca/wp-content/uploads/2025/04/alcoholics-anonymous.jpg
END:VEVENT
BEGIN:VEVENT
DTSTART;TZID=America/Edmonton:20250916T190000
DTEND;TZID=America/Edmonton:20250916T210000
DTSTAMP:20260425T060149
CREATED:20250416T201937Z
LAST-MODIFIED:20250416T201937Z
UID:10000024-1758049200-1758056400@www.mdopportunity.ab.ca
SUMMARY:AA Meeting
DESCRIPTION:Meetings held at the No Limit’s Boxing Club’s facilities located at the George D. Auger Community Hall. \nCoffee Served – Recoveries Shared \nFurther Information – 780-773-3330
URL:https://www.mdopportunity.ab.ca/event/aa-meeting/2025-09-16/
LOCATION:George D Auger Memorial Hall\, Stony Point Rd\, Wabasca-Desmarais\, Alberta\, T0G 0B7\, Canada
CATEGORIES:Community Events
ATTACH;FMTTYPE=image/jpeg:https://www.mdopportunity.ab.ca/wp-content/uploads/2025/04/alcoholics-anonymous.jpg
END:VEVENT
BEGIN:VEVENT
DTSTART;TZID=America/Edmonton:20250909T190000
DTEND;TZID=America/Edmonton:20250909T210000
DTSTAMP:20260425T060149
CREATED:20250416T201937Z
LAST-MODIFIED:20250416T201937Z
UID:10000023-1757444400-1757451600@www.mdopportunity.ab.ca
SUMMARY:AA Meeting
DESCRIPTION:Meetings held at the No Limit’s Boxing Club’s facilities located at the George D. Auger Community Hall. \nCoffee Served – Recoveries Shared \nFurther Information – 780-773-3330
URL:https://www.mdopportunity.ab.ca/event/aa-meeting/2025-09-09/
LOCATION:George D Auger Memorial Hall\, Stony Point Rd\, Wabasca-Desmarais\, Alberta\, T0G 0B7\, Canada
CATEGORIES:Community Events
ATTACH;FMTTYPE=image/jpeg:https://www.mdopportunity.ab.ca/wp-content/uploads/2025/04/alcoholics-anonymous.jpg
END:VEVENT
BEGIN:VEVENT
DTSTART;TZID=America/Edmonton:20250902T190000
DTEND;TZID=America/Edmonton:20250902T210000
DTSTAMP:20260425T060149
CREATED:20250416T201937Z
LAST-MODIFIED:20250416T201937Z
UID:10000022-1756839600-1756846800@www.mdopportunity.ab.ca
SUMMARY:AA Meeting
DESCRIPTION:Meetings held at the No Limit’s Boxing Club’s facilities located at the George D. Auger Community Hall. \nCoffee Served – Recoveries Shared \nFurther Information – 780-773-3330
URL:https://www.mdopportunity.ab.ca/event/aa-meeting/2025-09-02/
LOCATION:George D Auger Memorial Hall\, Stony Point Rd\, Wabasca-Desmarais\, Alberta\, T0G 0B7\, Canada
CATEGORIES:Community Events
ATTACH;FMTTYPE=image/jpeg:https://www.mdopportunity.ab.ca/wp-content/uploads/2025/04/alcoholics-anonymous.jpg
END:VEVENT
BEGIN:VEVENT
DTSTART;TZID=America/Edmonton:20250826T190000
DTEND;TZID=America/Edmonton:20250826T210000
DTSTAMP:20260425T060149
CREATED:20250416T201937Z
LAST-MODIFIED:20250416T201937Z
UID:10000021-1756234800-1756242000@www.mdopportunity.ab.ca
SUMMARY:AA Meeting
DESCRIPTION:Meetings held at the No Limit’s Boxing Club’s facilities located at the George D. Auger Community Hall. \nCoffee Served – Recoveries Shared \nFurther Information – 780-773-3330
URL:https://www.mdopportunity.ab.ca/event/aa-meeting/2025-08-26/
LOCATION:George D Auger Memorial Hall\, Stony Point Rd\, Wabasca-Desmarais\, Alberta\, T0G 0B7\, Canada
CATEGORIES:Community Events
ATTACH;FMTTYPE=image/jpeg:https://www.mdopportunity.ab.ca/wp-content/uploads/2025/04/alcoholics-anonymous.jpg
END:VEVENT
BEGIN:VEVENT
DTSTART;TZID=America/Edmonton:20250819T190000
DTEND;TZID=America/Edmonton:20250819T210000
DTSTAMP:20260425T060149
CREATED:20250416T201937Z
LAST-MODIFIED:20250416T201937Z
UID:10000020-1755630000-1755637200@www.mdopportunity.ab.ca
SUMMARY:AA Meeting
DESCRIPTION:Meetings held at the No Limit’s Boxing Club’s facilities located at the George D. Auger Community Hall. \nCoffee Served – Recoveries Shared \nFurther Information – 780-773-3330
URL:https://www.mdopportunity.ab.ca/event/aa-meeting/2025-08-19/
LOCATION:George D Auger Memorial Hall\, Stony Point Rd\, Wabasca-Desmarais\, Alberta\, T0G 0B7\, Canada
CATEGORIES:Community Events
ATTACH;FMTTYPE=image/jpeg:https://www.mdopportunity.ab.ca/wp-content/uploads/2025/04/alcoholics-anonymous.jpg
END:VEVENT
BEGIN:VEVENT
DTSTART;TZID=America/Edmonton:20250812T190000
DTEND;TZID=America/Edmonton:20250812T210000
DTSTAMP:20260425T060149
CREATED:20250416T201937Z
LAST-MODIFIED:20250416T201937Z
UID:10000019-1755025200-1755032400@www.mdopportunity.ab.ca
SUMMARY:AA Meeting
DESCRIPTION:Meetings held at the No Limit’s Boxing Club’s facilities located at the George D. Auger Community Hall. \nCoffee Served – Recoveries Shared \nFurther Information – 780-773-3330
URL:https://www.mdopportunity.ab.ca/event/aa-meeting/2025-08-12/
LOCATION:George D Auger Memorial Hall\, Stony Point Rd\, Wabasca-Desmarais\, Alberta\, T0G 0B7\, Canada
CATEGORIES:Community Events
ATTACH;FMTTYPE=image/jpeg:https://www.mdopportunity.ab.ca/wp-content/uploads/2025/04/alcoholics-anonymous.jpg
END:VEVENT
BEGIN:VEVENT
DTSTART;TZID=America/Edmonton:20250805T190000
DTEND;TZID=America/Edmonton:20250805T210000
DTSTAMP:20260425T060149
CREATED:20250416T201937Z
LAST-MODIFIED:20250416T201937Z
UID:10000018-1754420400-1754427600@www.mdopportunity.ab.ca
SUMMARY:AA Meeting
DESCRIPTION:Meetings held at the No Limit’s Boxing Club’s facilities located at the George D. Auger Community Hall. \nCoffee Served – Recoveries Shared \nFurther Information – 780-773-3330
URL:https://www.mdopportunity.ab.ca/event/aa-meeting/2025-08-05/
LOCATION:George D Auger Memorial Hall\, Stony Point Rd\, Wabasca-Desmarais\, Alberta\, T0G 0B7\, Canada
CATEGORIES:Community Events
ATTACH;FMTTYPE=image/jpeg:https://www.mdopportunity.ab.ca/wp-content/uploads/2025/04/alcoholics-anonymous.jpg
END:VEVENT
BEGIN:VEVENT
DTSTART;TZID=America/Edmonton:20250729T190000
DTEND;TZID=America/Edmonton:20250729T210000
DTSTAMP:20260425T060149
CREATED:20250416T201937Z
LAST-MODIFIED:20250416T201937Z
UID:10000017-1753815600-1753822800@www.mdopportunity.ab.ca
SUMMARY:AA Meeting
DESCRIPTION:Meetings held at the No Limit’s Boxing Club’s facilities located at the George D. Auger Community Hall. \nCoffee Served – Recoveries Shared \nFurther Information – 780-773-3330
URL:https://www.mdopportunity.ab.ca/event/aa-meeting/2025-07-29/
LOCATION:George D Auger Memorial Hall\, Stony Point Rd\, Wabasca-Desmarais\, Alberta\, T0G 0B7\, Canada
CATEGORIES:Community Events
ATTACH;FMTTYPE=image/jpeg:https://www.mdopportunity.ab.ca/wp-content/uploads/2025/04/alcoholics-anonymous.jpg
END:VEVENT
BEGIN:VEVENT
DTSTART;TZID=America/Edmonton:20250722T190000
DTEND;TZID=America/Edmonton:20250722T210000
DTSTAMP:20260425T060149
CREATED:20250416T201937Z
LAST-MODIFIED:20250416T201937Z
UID:10000016-1753210800-1753218000@www.mdopportunity.ab.ca
SUMMARY:AA Meeting
DESCRIPTION:Meetings held at the No Limit’s Boxing Club’s facilities located at the George D. Auger Community Hall. \nCoffee Served – Recoveries Shared \nFurther Information – 780-773-3330
URL:https://www.mdopportunity.ab.ca/event/aa-meeting/2025-07-22/
LOCATION:George D Auger Memorial Hall\, Stony Point Rd\, Wabasca-Desmarais\, Alberta\, T0G 0B7\, Canada
CATEGORIES:Community Events
ATTACH;FMTTYPE=image/jpeg:https://www.mdopportunity.ab.ca/wp-content/uploads/2025/04/alcoholics-anonymous.jpg
END:VEVENT
BEGIN:VEVENT
DTSTART;TZID=America/Edmonton:20250715T190000
DTEND;TZID=America/Edmonton:20250715T210000
DTSTAMP:20260425T060149
CREATED:20250416T201937Z
LAST-MODIFIED:20250416T201937Z
UID:10000015-1752606000-1752613200@www.mdopportunity.ab.ca
SUMMARY:AA Meeting
DESCRIPTION:Meetings held at the No Limit’s Boxing Club’s facilities located at the George D. Auger Community Hall. \nCoffee Served – Recoveries Shared \nFurther Information – 780-773-3330
URL:https://www.mdopportunity.ab.ca/event/aa-meeting/2025-07-15/
LOCATION:George D Auger Memorial Hall\, Stony Point Rd\, Wabasca-Desmarais\, Alberta\, T0G 0B7\, Canada
CATEGORIES:Community Events
ATTACH;FMTTYPE=image/jpeg:https://www.mdopportunity.ab.ca/wp-content/uploads/2025/04/alcoholics-anonymous.jpg
END:VEVENT
BEGIN:VEVENT
DTSTART;TZID=America/Edmonton:20250708T190000
DTEND;TZID=America/Edmonton:20250708T210000
DTSTAMP:20260425T060149
CREATED:20250416T201937Z
LAST-MODIFIED:20250416T201937Z
UID:10000014-1752001200-1752008400@www.mdopportunity.ab.ca
SUMMARY:AA Meeting
DESCRIPTION:Meetings held at the No Limit’s Boxing Club’s facilities located at the George D. Auger Community Hall. \nCoffee Served – Recoveries Shared \nFurther Information – 780-773-3330
URL:https://www.mdopportunity.ab.ca/event/aa-meeting/2025-07-08/
LOCATION:George D Auger Memorial Hall\, Stony Point Rd\, Wabasca-Desmarais\, Alberta\, T0G 0B7\, Canada
CATEGORIES:Community Events
ATTACH;FMTTYPE=image/jpeg:https://www.mdopportunity.ab.ca/wp-content/uploads/2025/04/alcoholics-anonymous.jpg
END:VEVENT
BEGIN:VEVENT
DTSTART;TZID=America/Edmonton:20250701T190000
DTEND;TZID=America/Edmonton:20250701T210000
DTSTAMP:20260425T060149
CREATED:20250416T201937Z
LAST-MODIFIED:20250416T201937Z
UID:10000013-1751396400-1751403600@www.mdopportunity.ab.ca
SUMMARY:AA Meeting
DESCRIPTION:Meetings held at the No Limit’s Boxing Club’s facilities located at the George D. Auger Community Hall. \nCoffee Served – Recoveries Shared \nFurther Information – 780-773-3330
URL:https://www.mdopportunity.ab.ca/event/aa-meeting/2025-07-01/
LOCATION:George D Auger Memorial Hall\, Stony Point Rd\, Wabasca-Desmarais\, Alberta\, T0G 0B7\, Canada
CATEGORIES:Community Events
ATTACH;FMTTYPE=image/jpeg:https://www.mdopportunity.ab.ca/wp-content/uploads/2025/04/alcoholics-anonymous.jpg
END:VEVENT
BEGIN:VEVENT
DTSTART;TZID=America/Edmonton:20250624T190000
DTEND;TZID=America/Edmonton:20250624T210000
DTSTAMP:20260425T060149
CREATED:20250416T201937Z
LAST-MODIFIED:20250416T201937Z
UID:10000012-1750791600-1750798800@www.mdopportunity.ab.ca
SUMMARY:AA Meeting
DESCRIPTION:Meetings held at the No Limit’s Boxing Club’s facilities located at the George D. Auger Community Hall. \nCoffee Served – Recoveries Shared \nFurther Information – 780-773-3330
URL:https://www.mdopportunity.ab.ca/event/aa-meeting/2025-06-24/
LOCATION:George D Auger Memorial Hall\, Stony Point Rd\, Wabasca-Desmarais\, Alberta\, T0G 0B7\, Canada
CATEGORIES:Community Events
ATTACH;FMTTYPE=image/jpeg:https://www.mdopportunity.ab.ca/wp-content/uploads/2025/04/alcoholics-anonymous.jpg
END:VEVENT
BEGIN:VEVENT
DTSTART;TZID=America/Edmonton:20250617T190000
DTEND;TZID=America/Edmonton:20250617T210000
DTSTAMP:20260425T060149
CREATED:20250416T201937Z
LAST-MODIFIED:20250416T201937Z
UID:10000011-1750186800-1750194000@www.mdopportunity.ab.ca
SUMMARY:AA Meeting
DESCRIPTION:Meetings held at the No Limit’s Boxing Club’s facilities located at the George D. Auger Community Hall. \nCoffee Served – Recoveries Shared \nFurther Information – 780-773-3330
URL:https://www.mdopportunity.ab.ca/event/aa-meeting/2025-06-17/
LOCATION:George D Auger Memorial Hall\, Stony Point Rd\, Wabasca-Desmarais\, Alberta\, T0G 0B7\, Canada
CATEGORIES:Community Events
ATTACH;FMTTYPE=image/jpeg:https://www.mdopportunity.ab.ca/wp-content/uploads/2025/04/alcoholics-anonymous.jpg
END:VEVENT
BEGIN:VEVENT
DTSTART;TZID=America/Edmonton:20250610T190000
DTEND;TZID=America/Edmonton:20250610T210000
DTSTAMP:20260425T060149
CREATED:20250416T201937Z
LAST-MODIFIED:20250416T201937Z
UID:10000010-1749582000-1749589200@www.mdopportunity.ab.ca
SUMMARY:AA Meeting
DESCRIPTION:Meetings held at the No Limit’s Boxing Club’s facilities located at the George D. Auger Community Hall. \nCoffee Served – Recoveries Shared \nFurther Information – 780-773-3330
URL:https://www.mdopportunity.ab.ca/event/aa-meeting/2025-06-10/
LOCATION:George D Auger Memorial Hall\, Stony Point Rd\, Wabasca-Desmarais\, Alberta\, T0G 0B7\, Canada
CATEGORIES:Community Events
ATTACH;FMTTYPE=image/jpeg:https://www.mdopportunity.ab.ca/wp-content/uploads/2025/04/alcoholics-anonymous.jpg
END:VEVENT
BEGIN:VEVENT
DTSTART;TZID=America/Edmonton:20250603T190000
DTEND;TZID=America/Edmonton:20250603T210000
DTSTAMP:20260425T060149
CREATED:20250416T201937Z
LAST-MODIFIED:20250416T201937Z
UID:10000009-1748977200-1748984400@www.mdopportunity.ab.ca
SUMMARY:AA Meeting
DESCRIPTION:Meetings held at the No Limit’s Boxing Club’s facilities located at the George D. Auger Community Hall. \nCoffee Served – Recoveries Shared \nFurther Information – 780-773-3330
URL:https://www.mdopportunity.ab.ca/event/aa-meeting/2025-06-03/
LOCATION:George D Auger Memorial Hall\, Stony Point Rd\, Wabasca-Desmarais\, Alberta\, T0G 0B7\, Canada
CATEGORIES:Community Events
ATTACH;FMTTYPE=image/jpeg:https://www.mdopportunity.ab.ca/wp-content/uploads/2025/04/alcoholics-anonymous.jpg
END:VEVENT
BEGIN:VEVENT
DTSTART;TZID=America/Edmonton:20250527T190000
DTEND;TZID=America/Edmonton:20250527T210000
DTSTAMP:20260425T060149
CREATED:20250416T201937Z
LAST-MODIFIED:20250416T201937Z
UID:10000008-1748372400-1748379600@www.mdopportunity.ab.ca
SUMMARY:AA Meeting
DESCRIPTION:Meetings held at the No Limit’s Boxing Club’s facilities located at the George D. Auger Community Hall. \nCoffee Served – Recoveries Shared \nFurther Information – 780-773-3330
URL:https://www.mdopportunity.ab.ca/event/aa-meeting/2025-05-27/
LOCATION:George D Auger Memorial Hall\, Stony Point Rd\, Wabasca-Desmarais\, Alberta\, T0G 0B7\, Canada
CATEGORIES:Community Events
ATTACH;FMTTYPE=image/jpeg:https://www.mdopportunity.ab.ca/wp-content/uploads/2025/04/alcoholics-anonymous.jpg
END:VEVENT
BEGIN:VEVENT
DTSTART;TZID=America/Edmonton:20250520T190000
DTEND;TZID=America/Edmonton:20250520T210000
DTSTAMP:20260425T060149
CREATED:20250416T201937Z
LAST-MODIFIED:20250416T201937Z
UID:10000007-1747767600-1747774800@www.mdopportunity.ab.ca
SUMMARY:AA Meeting
DESCRIPTION:Meetings held at the No Limit’s Boxing Club’s facilities located at the George D. Auger Community Hall. \nCoffee Served – Recoveries Shared \nFurther Information – 780-773-3330
URL:https://www.mdopportunity.ab.ca/event/aa-meeting/2025-05-20/
LOCATION:George D Auger Memorial Hall\, Stony Point Rd\, Wabasca-Desmarais\, Alberta\, T0G 0B7\, Canada
CATEGORIES:Community Events
ATTACH;FMTTYPE=image/jpeg:https://www.mdopportunity.ab.ca/wp-content/uploads/2025/04/alcoholics-anonymous.jpg
END:VEVENT
BEGIN:VEVENT
DTSTART;TZID=America/Edmonton:20250513T190000
DTEND;TZID=America/Edmonton:20250513T210000
DTSTAMP:20260425T060149
CREATED:20250416T201937Z
LAST-MODIFIED:20250416T201937Z
UID:10000006-1747162800-1747170000@www.mdopportunity.ab.ca
SUMMARY:AA Meeting
DESCRIPTION:Meetings held at the No Limit’s Boxing Club’s facilities located at the George D. Auger Community Hall. \nCoffee Served – Recoveries Shared \nFurther Information – 780-773-3330
URL:https://www.mdopportunity.ab.ca/event/aa-meeting/2025-05-13/
LOCATION:George D Auger Memorial Hall\, Stony Point Rd\, Wabasca-Desmarais\, Alberta\, T0G 0B7\, Canada
CATEGORIES:Community Events
ATTACH;FMTTYPE=image/jpeg:https://www.mdopportunity.ab.ca/wp-content/uploads/2025/04/alcoholics-anonymous.jpg
END:VEVENT
BEGIN:VEVENT
DTSTART;TZID=America/Edmonton:20250506T190000
DTEND;TZID=America/Edmonton:20250506T210000
DTSTAMP:20260425T060149
CREATED:20250416T201937Z
LAST-MODIFIED:20250416T201937Z
UID:10000005-1746558000-1746565200@www.mdopportunity.ab.ca
SUMMARY:AA Meeting
DESCRIPTION:Meetings held at the No Limit’s Boxing Club’s facilities located at the George D. Auger Community Hall. \nCoffee Served – Recoveries Shared \nFurther Information – 780-773-3330
URL:https://www.mdopportunity.ab.ca/event/aa-meeting/2025-05-06/
LOCATION:George D Auger Memorial Hall\, Stony Point Rd\, Wabasca-Desmarais\, Alberta\, T0G 0B7\, Canada
CATEGORIES:Community Events
ATTACH;FMTTYPE=image/jpeg:https://www.mdopportunity.ab.ca/wp-content/uploads/2025/04/alcoholics-anonymous.jpg
END:VEVENT
BEGIN:VEVENT
DTSTART;TZID=America/Edmonton:20250429T190000
DTEND;TZID=America/Edmonton:20250429T210000
DTSTAMP:20260425T060149
CREATED:20250416T201937Z
LAST-MODIFIED:20250416T201937Z
UID:10000004-1745953200-1745960400@www.mdopportunity.ab.ca
SUMMARY:AA Meeting
DESCRIPTION:Meetings held at the No Limit’s Boxing Club’s facilities located at the George D. Auger Community Hall. \nCoffee Served – Recoveries Shared \nFurther Information – 780-773-3330
URL:https://www.mdopportunity.ab.ca/event/aa-meeting/2025-04-29/
LOCATION:George D Auger Memorial Hall\, Stony Point Rd\, Wabasca-Desmarais\, Alberta\, T0G 0B7\, Canada
CATEGORIES:Community Events
ATTACH;FMTTYPE=image/jpeg:https://www.mdopportunity.ab.ca/wp-content/uploads/2025/04/alcoholics-anonymous.jpg
END:VEVENT
BEGIN:VEVENT
DTSTART;TZID=America/Edmonton:20250422T190000
DTEND;TZID=America/Edmonton:20250422T210000
DTSTAMP:20260425T060149
CREATED:20250416T201937Z
LAST-MODIFIED:20250416T201937Z
UID:10000003-1745348400-1745355600@www.mdopportunity.ab.ca
SUMMARY:AA Meeting
DESCRIPTION:Meetings held at the No Limit’s Boxing Club’s facilities located at the George D. Auger Community Hall. \nCoffee Served – Recoveries Shared \nFurther Information – 780-773-3330
URL:https://www.mdopportunity.ab.ca/event/aa-meeting/2025-04-22/
LOCATION:George D Auger Memorial Hall\, Stony Point Rd\, Wabasca-Desmarais\, Alberta\, T0G 0B7\, Canada
CATEGORIES:Community Events
ATTACH;FMTTYPE=image/jpeg:https://www.mdopportunity.ab.ca/wp-content/uploads/2025/04/alcoholics-anonymous.jpg
END:VEVENT
BEGIN:VEVENT
DTSTART;TZID=America/Edmonton:20250415T190000
DTEND;TZID=America/Edmonton:20250415T210000
DTSTAMP:20260425T060149
CREATED:20250416T201937Z
LAST-MODIFIED:20250416T201937Z
UID:10000002-1744743600-1744750800@www.mdopportunity.ab.ca
SUMMARY:AA Meeting
DESCRIPTION:Meetings held at the No Limit’s Boxing Club’s facilities located at the George D. Auger Community Hall. \nCoffee Served – Recoveries Shared \nFurther Information – 780-773-3330
URL:https://www.mdopportunity.ab.ca/event/aa-meeting/2025-04-15/
LOCATION:George D Auger Memorial Hall\, Stony Point Rd\, Wabasca-Desmarais\, Alberta\, T0G 0B7\, Canada
CATEGORIES:Community Events
ATTACH;FMTTYPE=image/jpeg:https://www.mdopportunity.ab.ca/wp-content/uploads/2025/04/alcoholics-anonymous.jpg
END:VEVENT
END:VCALENDAR